BEGIN:VCALENDAR
VERSION:2.0
PRODID:-//Remoters.club//Events//EN
CALSCALE:GREGORIAN
BEGIN:VEVENT
DTSTAMP:20260423T021948Z
UID:event-tba-e-punc-508ae097@remoters.club
DTSTART:20260623T110000
DTEND:20260623T170000
DESCRIPTION:TBA: e-punc\n pate: e-punc\n 
LOCATION:DE
STATUS:CONFIRMED
SUMMARY:TBA: e-punc
END:VEVENT
END:VCALENDAR
